BEGIN:VCALENDAR
VERSION:2.0
PRODID:-//Irish Strong Man - ECPv6.15.20//NONSGML v1.0//EN
CALSCALE:GREGORIAN
METHOD:PUBLISH
X-WR-CALNAME:Irish Strong Man
X-ORIGINAL-URL:https://irishstrongman.com
X-WR-CALDESC:Events for Irish Strong Man
REFRESH-INTERVAL;VALUE=DURATION:PT1H
X-Robots-Tag:noindex
X-PUBLISHED-TTL:PT1H
BEGIN:VTIMEZONE
TZID:UTC
BEGIN:STANDARD
TZOFFSETFROM:+0000
TZOFFSETTO:+0000
TZNAME:UTC
DTSTART:20140101T000000
END:STANDARD
END:VTIMEZONE
BEGIN:VEVENT
DTSTART;VALUE=DATE:20161009
DTEND;VALUE=DATE:20161010
DTSTAMP:20260425T131628
CREATED:20160117T202643Z
LAST-MODIFIED:20161012T203949Z
UID:6847-1475971200-1476057599@irishstrongman.com
SUMMARY:Irelands Truck Pull Championships 2016
DESCRIPTION:Sunday 9th October 2016- Irelands Truck Pull Championships 2016 \nThis event was to support the well known charity\, Action Cancer.
URL:https://irishstrongman.com/event/irelands-truck-pull-championships-2016/
LOCATION:OH
CATEGORIES:Challanges & Courses
ORGANIZER;CN="Glenn Ross":MAILTO:glennross@hotmail.co.uk
END:VEVENT
BEGIN:VEVENT
DTSTART;TZID=UTC:20160513T150000
DTEND;TZID=UTC:20160513T170000
DTSTAMP:20260425T131628
CREATED:20160117T173332Z
LAST-MODIFIED:20160516T155009Z
UID:6815-1463151600-1463158800@irishstrongman.com
SUMMARY:Irelands Stone Lifting Championships 2016
DESCRIPTION:IRELAND STONE LIFTING CHAMPIONSHIPS 2016 will be at Balmoral festival at 3pm for a 2hour stone lifting strength extravaganza for the best stone lifters of Ireland for a total prize pot of 1000euro. Each category in the first round will lift 100kg\, 115kg\, 130kg\, 145kg & 160kg stone onto barrels 4ft 6” in height as fast as possible\, maximum time allowed will be 90seconds. Only traditional tacky will be allowed\, no coloured tacky to be used. Arm selves allowed. \nEach class will be rewarded trophies; 95kg\, 110kg\, 110kg +\, Junior & Masters and winners of each class make the grand final for the overall champion \,along with the top seven fastest stone runs from across the three weight classes to make a overall10 man final. Final stones will be from 115kg\, 130kg\, 145kg\, 160kg 175kg Daddy stone onto 4ft 6″ Barrels. Medals for top 3 and winner will receive the coveted Brian Shaw Championship Stone Lifter Trophy plus PRIZE MONEY for 1st €500\, 2nd €300 \, 3rd €200 and be crowned Irelands Official STONE MONSTER 2016. \nARE YOU READY!!!? \nHEAT#1 KNOCK OUT STAGE\n \n\n\n\nNAME\n100KG\n115KG\n130KG\n145KG\n160KG\nPOSITION\nW/CLASS\n\n\nCLARK BECK\n PASS\nPASS\nPASS\n16:27 Sec\n\n1st\nOPEN (1st)\n110KG (1st)\n\n\nPA O’DWYER\nPASS\nPASS\nPASS\n16:46 Sec\n\n2nd\nOPEN (2nd)\n\n\nPETER McALLAN\nPASS\nPASS\nPASS\n17:27 Sec\n\n3rd\nOPEN (3rd)\nMASTER (1st)\n\n\nNICKY WHELAN\nPASS\nPASS\nPASS\n22:53 Sec\n\n4th\nOPEN (4th)\n\n\nMICK McPOLLIN\nPASS\nPASS\n(1) 21:04 Sec\n(2) 35:63 Sec\n\n5th\n 95kg (1st)\n\n\nMICHAEL DOWNEY\nPASS\nPASS\n(1) 22:23 Sec\n(2) 45:00 Sec\n\n6th\nOPEN (5th)\n\n\nJOE DOWNEY\nPASS\nPASS\n(1) 18:30 Sec\n(2) 24:43 Sec\n\n7th\nOPEN (6th)\n\n\nDEAN KENNEDY\nPASS\nPASS\n83:00 Sec\n\n\n8th\n95kg (2nd)\n\n\n\nHEAT#2 FINAL\n \n\n\n\nNAME\n115KG\n130KG\n145KG\n160KG\n175KG\nPOSITION\nW/CLASS\n\n\nCLARK BECK\n PASS\nPASS\nPASS\n19:51 Sec\nFAIL\n1st\nOPEN (1st)\n110KG (1st)\n\n\nPA O’DWYER\nPASS\nPASS\nPASS\n23:81 Sec\nFAIL\n2nd\nOPEN (2nd)\n\n\nNICKY WHELAN\nPASS\nPASS\n14:00 Sec\nFAIL\n\n3rd\nOPEN (3rd)\n\n\nPETER McALLAN\nPASS\nPASS\n20:58 Sec\nFAIL\n\n4th\nOPEN (4th)\nMASTERS (1st)\n\n\nMICK McPOLLIN\nPASS\nPASS\n32:56 Sec\nFAIL\n\n5th\n95kg (1st)
URL:https://irishstrongman.com/event/irelands-stone-lifting-championships-2016/
LOCATION:Balmoral Show\, Halftown Road\, Lisburn\, Co.Antrim\, BT275RF\, United Kingdom
CATEGORIES:Challanges & Courses
ATTACH;FMTTYPE=image/jpeg:https://irishstrongman.com/wp-content/uploads/2016/01/2016.05.13th-ISA-Irelands-Strong-Lifting-Championsios-2016-1200x627NEW.jpg
ORGANIZER;CN="Glenn Ross":MAILTO:glennross@hotmail.co.uk
END:VEVENT
BEGIN:VEVENT
DTSTART;TZID=UTC:20160513T090000
DTEND;TZID=UTC:20160515T180000
DTSTAMP:20260425T131628
CREATED:20160117T173713Z
LAST-MODIFIED:20160205T031609Z
UID:6817-1463130000-1463335200@irishstrongman.com
SUMMARY:BodyPower UK 2016
DESCRIPTION:
URL:https://irishstrongman.com/event/bodypower-uk-2016/
LOCATION:Body Power\, Birmingham\, England\, United Kingdom
CATEGORIES:Arm Wrestling,Challanges & Courses,Highland Games,Mas Wrestling,Powerlifting,Strongman
ATTACH;FMTTYPE=image/jpeg:https://irishstrongman.com/wp-content/uploads/2016/01/ISA-Bodypower-uk-2016.jpg
ORGANIZER;CN="Glenn Ross":MAILTO:glennross@hotmail.co.uk
END:VEVENT
BEGIN:VEVENT
DTSTART;VALUE=DATE:20160303
DTEND;VALUE=DATE:20160307
DTSTAMP:20260425T131628
CREATED:20160207T163520Z
LAST-MODIFIED:20160207T164203Z
UID:6930-1456963200-1457308799@irishstrongman.com
SUMMARY:Arnold Sports Festival 2016
DESCRIPTION:Anybody wishing to enter either one of the following: \nArnold Amateur Strongman 2016\,\nArnold Mas Wrestling Championships 2016\nArnold Highland Games 2016\nArnold Armwrestling Championships 2016. \nPlease contact by e-mail to glennross@hotmail.co.uk before Friday 15th January 2016 \nAll ISA members in 2016 will get some financial support to this event if they are wishing to enter any of these contests. \nAll ISA full members must have their online application forms submitted by MIDNIGHT 5TH FEB 2016 NO EXCEPTIONS for this event. \nClick the following link to sign up for the ISA Annual online application form 2016 \nTeam ISA – Unity In Strength
URL:https://irishstrongman.com/event/arnold-sports-festival-2016-2/
LOCATION:Greater Columbus Convention Center\, 400 N High St\, \, Columbus\, \, OH\, OH 43215\, United States
CATEGORIES:Arm Wrestling,Challanges & Courses,Highland Games,Mas Wrestling,Powerlifting,Strongman
ATTACH;FMTTYPE=image/jpeg:https://irishstrongman.com/wp-content/uploads/2016/02/Arnold-2016-NEW-NEW.jpg
ORGANIZER;CN="Glenn Ross":MAILTO:glennross@hotmail.co.uk
END:VEVENT
BEGIN:VEVENT
DTSTART;TZID=UTC:20151122T120000
DTEND;TZID=UTC:20151122T170000
DTSTAMP:20260425T131628
CREATED:20151109T234527Z
LAST-MODIFIED:20151124T101653Z
UID:6743-1448193600-1448211600@irishstrongman.com
SUMMARY:IRELANDS OPEN MIGHTY MITTS CHAMPIONSHIPS 2015
DESCRIPTION:EVENT\nIRELANDS OPEN MIGHTY MITTS CHAMPIONSHIPS 2015\n\n\n\nDATE\nSUNDAY 22ND NOVEMBER 2015\n\n\n\nTIME\n12 NOON\n\n\n\nVENUE\nBANGOR HUB (PROJECT 24)\, BANGOR COUNTY DOWN\n\n\n\nAXLE FOR REPS \n\n\n\nNAME\n140KG AXLE BAR OVERHAND FOR REPS\nPOSITION\nPOINTS\n\n\nSean O’Hagan\n15\n1\n8\n\n\nGavin Redmond\n13\n2\n7\n\n\nTrevor Reid\n5\n3\n6\n\n\nJoe Downey\n4\n4\n4.5\n\n\nMichael Downey\n4\n4\n4.5\n\n\nConor Kehoe\n1\n5\n3\n\n\nSteven Harrison\nNo lift\n0\n0\n\n\nPeter McAllan\nNo lift\n0\n0\n\n\n\nANVIL FOR DISTANCE\n \n\n\n\nNAME\nDISTANCE\nPOSITION\nPOINTS\n\n\nSean O’Hagan\n29.38m\n1\n8\n\n\nMichael Downey\n26.84m\n2\n7\n\n\nGavin Redmond\n22.46m\n3\n6\n\n\nJoe Downey\n21.86m\n4\n5\n\n\nPeter McAllan\n15.36m\n5\n4\n\n\nSteven Harrison\n14.98m\n6\n3\n\n\nTrevor Reid\n7.42m\n7\n2\n\n\nConor Kehow\n0\n0\n0\n\n\n\nROLLING THUNDER\n \n\n\n\nNAME\n75kg\n80kk\n85kg\n90kg\n95kg\nPOSITION\nPOINTS\n\n\nSean O’Hagan\nPass\nPass\nPass\nPass\nPass\n1\n8\n\n\nGavin Redmond\nPass\nPass\nPass\nPass\nFail\n2\n7\n\n\nMichael Downey\nPass\nPass\nFail\n\n\n3\n4.5\n\n\nJoe Downey\nPass\nPass\nFail\n\n\n3\n4.5\n\n\nSteven Harrison\nPass\nPass\nFail\n\n\n3\n4.5\n\n\nConor Kehoe\nPass\nPass\nFail\n\n\n3\n4.5\n\n\nTrevor Reid\nPass\nFail\n\n\n\n4\n2\n\n\nPeter McAllan\nFail\n\n\n\n\n0\n0\n\n\n\nSILVER BULLET HOLD 20 SECONDS\n \n\n\n\nNAME\nTrainer\n0.5\n1\n1.5\n2\n2.5\nPOSITION\nPOINTS\n\n\nSean O’Hagan\nPass\nPass\nPass\nPass\nPass\n4.56s\n1\n8\n\n\nJoe Downey\nPass\nPass\nPass\nPass\nPass\nFail\n2\n6.5\n\n\nSteven Harrison\nPass\nPass\nPass\nPass\nPass\nFail\n2\n6.5\n\n\nTrevor Reid\nPass\nPass\nPass\n11.97s\n\n\n3\n5\n\n\nGavin Redmond\nPass\nPass\n19.94s\n\n\n\n4\n4\n\n\nMichael Downey\nPass\nPass\n3.25s\n\n\n\n5\n3\n\n\nPete McAllan\nPass\n19.53s\n\n\n\n\n6\n2\n\n\nConor Kehoe\nPass\n8.68s\n\n\n\n\n8\n1\n\n\n\nMEDLEY \n\n\n\nNAME\nBD 54kg\nT\nSD 64kg\n50kg\nGD 78kg\nPOSITION\nOVERALL POINTS\n\n\nSean O’Hagan\nPass\nPass\nPass\nPass\n38.39s\n1 (8)\n40\n\n\nGavin Redmond\nPass\nPass\nPass\n47.86s\n\n2 (7)\n31\n\n\nJoe Downey\nPass\n6.34s\n\n\n\n3 (6)\n26.5\n\n\nMichael Downey\nPass\n7.65s\n\n\n\n4 (5)\n24\n\n\nTrevor Reid\nPass\n11.00s\n\n\n\n5 (4)\n19\n\n\nSteven Harrison\nPass\n30.00s\n\n\n\n4 (3)\n17\n\n\nConor Kehoe\n\n\n\n\n\n\n8.5\n\n\nPeter McAllan\n\n\n\n\n\n\n6
URL:https://irishstrongman.com/event/irelands-open-mighty-mitts-championships-2015/
LOCATION:Bangor\, Bangor\, BT20 3PU\, United Kingdom
CATEGORIES:Challanges & Courses
ATTACH;FMTTYPE=image/jpeg:https://irishstrongman.com/wp-content/uploads/2015/11/FB-PR-Event-2015.12aa.jpg
END:VEVENT
BEGIN:VEVENT
DTSTART;TZID=UTC:20151122T120000
DTEND;TZID=UTC:20151122T170000
DTSTAMP:20260425T131628
CREATED:20150203T173843Z
LAST-MODIFIED:20151124T150212Z
UID:5489-1448193600-1448211600@irishstrongman.com
SUMMARY:CHRISTMAS LOG LIFTING OPEN 95KG\,110KG & 110KG+
DESCRIPTION:EVENT\nCHRISTMAS LOG LIFTING CHAMPIONSHIPS 95KG\, 110KG & 110KG+\n\n\n\n\nDATE\nSUNDAY 22ND NOVEMBER 2015\n\n\n\nTIME\n12 NOON\n\n\n\nVENUE\nBANGOR HUB (PROJECT 24)\, BANGOR COUNTY DOWN\n\n\n\n\n\n\n\n\n\n\n\n\nLOG FOR MAX\n1RM WEIGHT\n\n\nLOG FOR REPS\nCATEGORY WEIGHT FOR REPS 95kg\, 110kg & 110kg +\n\n\nTROPHY\nWEIGHT CLASS TROPHIES FOR ALL WITH THE OVERALL COVETED ZYDRUNDAS ZAVICKAS TROPHY FOR THE POUNDS FOR POUNDS CHAMPION\n\n\n\n  \n\n\n\nNAME\nBODY \nWEIGHT\n100kg\n110kg\n120kg\n130kg\n135kg\n140kg\n145kg\n150kg\nP-P*\nTOTAL\n110kg REPS\n\n\nAngelo Innetta\n91kg\nPass\nPass\nPass\nPass\nPass\nPass\nFail\n\n56kg\n147kg\n7\n\n\nTrevor Reid\n97kg\nPass\nPass\nPass\nPass\nFail\n\n\n\n35kg\n132kg\n2\n\n\nStuart Whelan\n107kg\nPass\nPass\nPass\nPass\nPass\nFail\n\n\n32kg\n139kg\n4\n\n\nGavin Redmond\n107kg\nPass\nPass\nPass\nPass\nFail\n\n\n\n28kg\n135kg\n5\n\n\nSteven Harrison\n109kg\nPass\nPass\nPass\nPass\nFail\n\n\n\n27kg\n136kg\n6\n\n\nMichael Downey\n140kg\nPass\nPass\nPass\nPass\nPass\nPass\nPass\nFail\n6kg\n146kg\n1\n\n\nPhil Morgan\n155kg\nPass\nPass\nPass\nPass\nPass\nPass\nPass\nPass\n0kg\n155kg\n5\n\n\nConor Kehow\n140kg\nPass\nPass\nPass\nPass\nFail\n\n\n\n– 6kg\n134kg\n4\n\n\nSean O’Hagan\n181kg\nPass\nPass\nPass\nPass\nPass\nFail\n\n\n– 47kg\n135kg\n0\n\n\n\n 
URL:https://irishstrongman.com/event/christmas-log-lifting-championships-2015/
LOCATION:Bangor\, Bangor\, BT20 3PU\, United Kingdom
CATEGORIES:Challanges & Courses,Strongman
ATTACH;FMTTYPE=image/jpeg:https://irishstrongman.com/wp-content/uploads/2015/02/FB-PR-Event-2015.122.jpg
END:VEVENT
BEGIN:VEVENT
DTSTART;TZID=UTC:20150920T120000
DTEND;TZID=UTC:20150920T160000
DTSTAMP:20260425T131628
CREATED:20150920T181457Z
LAST-MODIFIED:20150920T181643Z
UID:6724-1442750400-1442764800@irishstrongman.com
SUMMARY:Action Cancer Truck Pull Championships 2015
DESCRIPTION:Event: Action Cancer Truck Pull Championships 2015 – Team Championships & Ireland Open\nDate: Sunday 20th September 2015\nTime: 12pm – 16:00pm\nVenue: Maize Prison \nACTION CANCER TEAM RESULTS \n\n\n\nOVERALL POSITION\nTEAM NAME\n1st PULL\n2nd PULL\n3rd PULL\n4th PULL\n\n\n1st\nEmerson Legends\n28.37s\n27.81s\n33.34s\n32.78s\n\n\n2nd\nLagan Hangers\n32.02s\n28.15s\n34.1s\n34.62s\n\n\n3rd\nLagan Plant Pots\n30.79s\n31.13s\n34.75s\n35.34s\n\n\n4th\nCarry On Concrete\n33.13s\n30.94s\n34.69s\n35.82s\n\n\n5th\nLagan Ladies\n30.19s\n26.53s\nWithdrew\nX\n\n\n6th\nNelson Columns\n30.15s\n28.16s\nWithdrew\nX\n\n\n7th\nCariduff Dolly M’ixtures\n32.25s\n32.10s\nEliminated\nX\n\n\n8th\nSlim Jims\n34.22s\n34.13s\nEliminated\nX\n\n\n9th\nThe Flying Kicks\n35.47s\nEliminated\nX\nX\n\n\n\nIRELAND OPEN TRUCK PULL CHAMPIONSHIPS 2015 OVERALL\n \n\n\n\nPOSITION\nWEIGHT CLASS\nNAME\n1st PULL\n2nd PULL\n\n\n\n\n\n12Tone\n18Tone\n\n\n1st\n-105kg\nCiaran Conroy\n46.31s\n43.91s\n\n\n2nd\n-105kg\nOrian Kircos\n49.59s\n42.97s\n\n\n1st\n110kg +\nSean O’Hagan\n34.63s\n39.03s\n\n\n2nd\n110kg +\nPete McCallan\n36.00s\n44.32s\n\n\n3rd\n110kg +\nJosh Smith\n7.70m\n60.75s\n\n\n\nWinner of the Ireland Open Truck Pull Championships – Sean O’Hagan
URL:https://irishstrongman.com/event/action-cancer-truck-pull-championships-2015/
LOCATION:OH
CATEGORIES:Challanges & Courses
END:VEVENT
BEGIN:VEVENT
DTSTART;VALUE=DATE:20150808
DTEND;VALUE=DATE:20150810
DTSTAMP:20260425T131628
CREATED:20150203T161817Z
LAST-MODIFIED:20160201T124741Z
UID:5457-1438992000-1439164799@irishstrongman.com
SUMMARY:Irish Strength Expo - Bangor's Muscle Beach 2015
DESCRIPTION:HIGHLAND GAMES\n  Date: Saturday 8th August 2015\nTime: 12noon – 3pm\n  Venue: Ballyholme Beach\, Bangor FREE ENTRY \nRESULTS HIGHLAND GAMES\n \n\n\n\nPOSITION\nNAME\nCOUNTY\nPOINTS\n\n\n1\nJohnny Kelly\nAntrim\n23\n\n\n2\nSean O’Hagan\nDown\n20\n\n\n3\nDavid Loughman\nDublin\n17\n\n\n4\nBarry Sheenan\nDrogheda\n8\n\n\n5\nMichael Downey\nAntrim\n3\n\n\n\nEVENT 1 HAMMER FOR DISTANCE\n \n\n\n\nPOSITION\nNAME\n1st Attempt\n2nd Attempt\n3rd Attempt\nPOINTS\n\n\n1\nJohnny Kelly\n87.4ft\n92.8ft\n103ft\n5\n\n\n2\nSean O’Hagan\nX\n95.3ft\nX\n4\n\n\n3\nDavid Loughman\nX\n83.11ft\n87.5ft\n3\n\n\n4\nBarry Sheenan\n75ft\nX\nX\n2\n\n\n5\nMichael Downey\n61ft\nX\n65.2ft\n1\n\n\n\nEVENT 2 – WEIGHT FOR HEIGHT\n \n\n\n\nPOSITION\nNAME\n12\n13\n14\n15\n16\n18\n19\n20\nPOINTS\n\n\n1\nSean O’Hagan\n1st\n1st\n1st\n1st\n1st\n3rd\n1st\n1st\n5\n\n\n2\nDavid Loughman\n2nd\n1st\n1st\n1st\n2nd\nxxx\n–\n–\n4\n\n\n3\nJohnny Kelly\n1st\n1st\n1st\n1st\nxxx\n–\n–\n–\n3\n\n\n4\nBarry Sheenan\n1st\n1st\n1st\nxxx\n–\n–\n–\n–\n2\n\n\n5\nMichael Downey\nXXX\n–\n–\n–\n–\n–\n–\n–\n0\n\n\n\nEVENT 3 – PUTTING STONE FOR DISTANCE\n \n\n\n\nPOSITION\nNAME\n1st Attempt\n2nd Attempt\n3rd Attempt\nPOINTS\n\n\n1\nJohnny Kelly\n35.2ft\n35.14ft\nX\n5\n\n\n2\nSean O’Hagan\n30.5ft\nX\n31.8ft\n4\n\n\n3\nDavid Loughman\n26.8ft\n31ft\nX\n3\n\n\n4\nBarry Sheenan\n22.5ft\n25ft\nX\n2\n\n\n5\nMichael Downey\n24.8ft\nX\n24.9ft\n1\n\n\n\nEVENT 4 – CABER TOSS (PART OF HEIGHT WARS)\n \n\n\n\nPOSITION\nNAME\n1st Attempt\n2nd Attempt \nPOINTS\n\n\n1\nJohnny kelly\n35.10ft\nX.\n5\n\n\n2\nSean O’Hagan\n31.7ft\n35.7ft\n4\n\n\n3\nDavid Locughman\n27.8ft\nX\n3\n\n\n4\nBarry Sheenan\nX\nX\n0\n\n\n5\nMichael Downey\nX\nX\n0\n\n\n\nEVENT 5 – WEIGHT OVER BAR\n \n\n\n\nPOSITION\nNAME\n1st Attempt\n2nd Attempt\n3rd Attempt\nPOINTS\n\n\n1\nJohnny Kelly\n57.5ft\nX\nX\n5\n\n\n2\nDavid Loughman\n42ft\n47ft\n50.9ft\n4\n\n\n3\nSean O’Hagan\n42.2ft\n47ft\nX\n3\n\n\n4\nBarry Sheenan\nX\nX\n36.9ft\n2\n\n\n5\nMichael Downey\n30.6ft\nX\nX\n1\n\n\n\nEVENT 6 – SHEAF TOSS (PART OF HEIGHT WARS)\n \n\n\n\nPOSITION\nNAME\n16ft\n18ft\n20ft\n22ft\n24ft\n27ft\nPOINTS\n\n\n1\nJohnny Kelly\n1st\n1st\n1st\n1st\n1st\nxxx\n5\n\n\n2\nSean O’Hagan\n1st\n1st\n1st\n2nd\n2nd\nxxx\n4\n\n\n3\nDavid Loughman\n1st\n1st\n1st\nxxx\n–\n–\n3\n\n\n4\nBarry Sheenan\n3rd\nxxx\n–\n–\n–\n–\n0\n\n\n5\nMichael Downey\n3rd\nxxx\n–\n–\n–\n–\n0\n\n\n\nWRESTLING\nDate: Saturday 8th August 2015\nTime: 12noon – 3pm\n  Venue: Ballyholme Beach\, Bangor FREE ENTRY\n \n\n\n\nPOSITION\nNAME\n\n\n1\nDavid Loughman\n\n\n2\nMichael Downey\n\n\n3\nCiarán Conroy\n\n\n\nARM WRESTLING\nEvent: Arm-Wrestling\n  Date: Sunday 9th August 2015\nTime: 12am – 4pm\n  Venue: Project 24\, The Hub. Queens Parade\, Bangor\, Co.Down FREE ENTRY \nRESULTS ARM WRESTLING \nIRELAND OPEN OVERALL LEFT ARM \n\n\n\nPOSITION\nNAME\nWINS\n\n\n1\nAdam Johnston\n4\n\n\n2\nNigel Reilly\n3\n\n\n3\nMarius Gudonis\n2\n\n\n4\nCiaran Conroy\n1\n\n\n5\nSteven Beggs\n–\n\n\n\nIRELAND OPEN OVERALL RIGHT ARM\n \n\n\n\nPOSITION\nNAME\nWINS\n\n\n1\nAdam Johnston\n4\n\n\n2\nNigel Reilly\n3\n\n\n3\nMarius Gudonis\n2\n\n\n4\nCiaran Conroy\n1\n\n\n5\nSteven Beggs\n–\n\n\n\nNORTHERN IRELAND LEFT HAND\n \n\n\n\nPOSITION\nNAME\nWINS\n\n\n1\nAdam Johnston\n2\n\n\n2\nSteven Beggs\n1\n\n\n3\nCiaran Conroy\n–\n\n\n\nREPUBLIC OF IRELAND LEFT HAND\n \n\n\n\nPOSITION\nNAME\nWINS\n\n\n1\nNigel Reilly\n2\n\n\n2\nMarius Gudonis\n1\n\n\n\nNORTHERN IRELAND RIGHT HAND\n \n\n\n\nPOSITION\nNAME\nWINS\n\n\n1\nAdam Johnston\n2\n\n\n2\nCiaran Conroy\n1\n\n\n3\nSteven Beggs\n–\n\n\n\nREPUBLIC OF IRELAND RIGHT HAND\n \n\n\n\nPOSITION\nNAME\nWINS\n\n\n1\nNigel Reilly\n2\n\n\n2\nMarius Gudonis\n1\n\n\n\nSTRONGMAN\n  EVENT: IRELAND’S STRONGEST MAN 2015 – Once again planned annual RTE TV\n  Date: Sunday 9th August 2015\nTime: 12Noon – 3pm \n  Venue: Bangor walled gardens\, BT204UT FREE ENTRY \nRESULTS IRELAND’S STRONGEST MAN 2015\n \n\n\n\nPOSITION\nNAME\nCOUNTY\nPOINTS\nUK SM QUALIFIED\n\n\n1\nSean O’Hagan\nDown\n72\nQualified\n\n\n2\nJohnny Kelly\nAntrim\n71\nQualified\n\n\n3\nDale Winters\nDown\n53\nQualified\n\n\n4\nPete McAllan\nTyrone\n51\nQualified\n\n\n5\nMatthew McCoy\nAntrim\n50.5\nReserve\n\n\n6\nIvan Gannon\nSligo\n44\n\n\n\n7\nChis Davidson\nCork\n37.5\n\n\n\n8\nRoss Tweedy\nWexford\n35.5\n\n\n\n9\nBrian O’Merea\nTipperary\n31.5\n\n\n\n10\nGavin Redmond\nWexford\n28\n\n\n\n11\nDavid Loughman\nDublin\n19\n\n\n\n12\nPat O’Dwyer\nLimerick\n15\n\n\n\n\nEVENT 1 – FARMERS WALK 250KG 20METERS + TURN NO DROP\n \n\n\n\nPOSITION\nNAME\nDISTANCE\nPOINTS\n\n\n1\nSean O’Hagan\n81.10m\n12\n\n\n2\nJohnny Kelly\n60.65m\n11\n\n\n3\nRoss Tweedy\n51.65m\n10\n\n\n4\nMatthew McCoy\n51.60m\n9\n\n\n5\nDale Winters\n49.75\n8\n\n\n6\nBrian O’Meara\n40.90m\n7\n\n\n7\nPete McAllan\n40m\n6\n\n\n8\nGavin Redmon\n39.50m\n5\n\n\n9\nDavid Loughman\n39.05m\n4\n\n\n10\nPat O’Dwyer\n38.65m\n3\n\n\n11\nIvan Gannon\n35.55m\n2\n\n\n12\nChris Davidson\n28.40m\n1\n\n\n\nEVENT 2 – ARM OVER ARM ROPE PULL / TRUCK 20 METERS 90 SECONDS\n \n\n\n\nPOSITION\nNAME\nTIME/DISTANCE\nPOINTS\n\n\n1\nSean O’Hagan\n16.13s\n12\n\n\n2\nDale Winters\n16.98s\n11\n\n\n3\nBrian O’Meara\n17.12s\n10\n\n\n4\nIvan Gannon\n17.33s\n9\n\n\n5\nPete McAllan\n17.36s\n8\n\n\n6\nGavin Redmond\n17.57s\n7\n\n\n7\nJohnny Kelly\n17.92s\n6\n\n\n8\nChris Davidson\n18.11s\n4.5\n\n\n8\nMatthew McCoy\n18.11s\n4.5\n\n\n10\nRoss Tweedy\n18.39s\n3\n\n\n11\nDavid Loughman\n18.88s\n2\n\n\n12\nPat O’Dwyer\n19.28s\n1\n\n\n\nEVENT 3 – CAR DEADLIFT SIDE HANDLES FOR REPS + STRAPS\n \n\n\n\nPOSITION\nNAMES\nREPS\nPOINTS\n\n\n1\nJohnny Kelly\n20\n12\n\n\n2\nPat O’Dwyer\n16\n11\n\n\n3\nIvan Gannon\n14\n10\n\n\n4\nChris Davison\n10\n9\n\n\n5\nMatthew McCoy\n9\n8\n\n\n6\nSean O’Hagan\n8\n7\n\n\n7\nPeter McAllan\n5\n6\n\n\n8\nDavid Loughman\n4\n5\n\n\n9\nBrian O’Meara\n2\n3.5\n\n\n10\nDale Winters\n2\n3.5\n\n\n11\nGavin Redmond\n0\n0\n\n\n12\nRoss Tweedy\n0\n0\n\n\n\nEVENT 4 – DADDY DUMBELL FOR REPS 90 SECONDS\n \n\n\n\nPOSITION\nNAMES\nREPS\nPOINTS\n\n\n1\nSean O’Hagan\n9\n12\n\n\n2\nMatthew McCoy\n8\n11\n\n\n3\nJohnny Kelly\n6\n10\n\n\n4\nChris Davidson\n5\n9\n\n\n5\nGavin Redmond\n4\n8\n\n\n6\nIvan Gannon\n3\n7\n\n\n7\nRoss Tweedy\n2\n5.5\n\n\n8\nDale Winters\n2\n5.5\n\n\n9\nBrian O’Meara\n0\n0\n\n\n10\nDavid Loughman\n0\n0\n\n\n11\nPeter McAllan\n0\n0\n\n\n12\nPat O’Dwyer\n–\nInjured\n\n\n\nEVENT 5 – STONES OF STRENGTH FOR REPS / 160KG 90 SECONDS\n \n\n\n\nPOSITION\nNAME\nREPS\nPOINTS\n\n\n1\nJohnny Kelly\n2\n12\n\n\n2\nBrian O’Merea\n1\n9\n\n\n2\nPete McAllan\n1\n9\n\n\n2\nRoss Tweedy\n1\n9\n\n\n2\nDale Winters\n1\n9\n\n\n2\nSean O’Hagan\n1\n9\n\n\n0\nDavid Louchman\n0\n0\n\n\n0\nIvan Gannon\n0\n0\n\n\n0\nGavin Redmond\n0\n0\n\n\n0\nChris Davidson\n0\n0\n\n\n0\nMatthew McCoy\n0\n0\n\n\n0\nPat O’Dwyer\n–\nInjured\n\n\n\nEVENT 6 – TRAIN DRAG / 90 SECONDS\n \n\n\n\nPOSITION\nNAME\nTIME/DISTANCE\nPOINTS\n\n\n1\nPete McAllan\n42.97s\n12\n\n\n2\nMatthew McCoy\n49.50s\n11\n\n\n3\nIvan Gannon\n49.75s\n10\n\n\n4\nSean O’Hagan\n54.72s\n9\n\n\n5\nJohnny Kelly\n55.81s\n8\n\n\n6\nDale Winters\n55.97s\n7\n\n\n7\nChris Davidson\n58.41s\n6\n\n\n8\nDavid Loughman\n67.09s\n5\n\n\n9\nGavin Redmond\n72.90s\n4\n\n\n10\nRoss Tweedy\n84.78s\n3\n\n\n11\nBrain O’Meara\n11.15meters\n2\n\n\n12\nPat O’Dwyer\n–\nInjured\n\n\n\nEVENT 7 – MARITIME MEDLEY / 90 SECONDS\n \n\n\n\nPOSITION\nNAME\nANCHOR\n115kg BARREL\nCHAINS\nPOINTS\n\n\n1\nJohnny Kelly\n–\n31.76s\nX\n12\n\n\n2\nSean O’Hagan\n–\n33.76s\nX\n11\n\n\n3\nPete McAllan\n–\n89.90s\nX\n10\n\n\n4\nDale Winters\n24.00s\nX\nX\n9\n\n\n5\nChris Davidson\n26.57s\nX\nX\n8\n\n\n6\nMatthew McCoy\n26.94s\nX\nX\n7\n\n\n7\nIvan Gannon\n27.99s\nX\nX\n6\n\n\n8\nRoss Tweedy\n28.00s\nX\nX\n5\n\n\n9\nGavin Redmond\n29.50s\nX\nX\n4\n\n\n10\nDavid Loughman\n29.55s\nX\nX\n3\n\n\n11\nBrian O’Mera\n–\n–\n–\nInjured\n\n\n12\nPat O’Dwyer\n–\n–\n–\nInjured\n\n\n\n  \n  \n\n \n 
URL:https://irishstrongman.com/event/irish-strength-expo-bangors-muscle-beach-2015/
LOCATION:Bangor\, Bangor\, BT20 3PU\, United Kingdom
CATEGORIES:Arm Wrestling,Challanges & Courses,Highland Games,Mas Wrestling,Powerlifting,Strongman
ATTACH;FMTTYPE=image/jpeg:https://irishstrongman.com/wp-content/uploads/2015/02/ISE-2015.jpg
END:VEVENT
END:VCALENDAR